BEGIN:VCALENDAR
VERSION:2.0
PRODID:-//IMS Museum - ECPv6.15.20//NONSGML v1.0//EN
CALSCALE:GREGORIAN
METHOD:PUBLISH
X-WR-CALNAME:IMS Museum
X-ORIGINAL-URL:https://imsmuseum.org
X-WR-CALDESC:Events for IMS Museum
REFRESH-INTERVAL;VALUE=DURATION:PT1H
X-Robots-Tag:noindex
X-PUBLISHED-TTL:PT1H
BEGIN:VTIMEZONE
TZID:America/Indiana/Indianapolis
BEGIN:DAYLIGHT
TZOFFSETFROM:-0500
TZOFFSETTO:-0400
TZNAME:EDT
DTSTART:20230312T070000
END:DAYLIGHT
BEGIN:STANDARD
TZOFFSETFROM:-0400
TZOFFSETTO:-0500
TZNAME:EST
DTSTART:20231105T060000
END:STANDARD
BEGIN:DAYLIGHT
TZOFFSETFROM:-0500
TZOFFSETTO:-0400
TZNAME:EDT
DTSTART:20240310T070000
END:DAYLIGHT
BEGIN:STANDARD
TZOFFSETFROM:-0400
TZOFFSETTO:-0500
TZNAME:EST
DTSTART:20241103T060000
END:STANDARD
BEGIN:DAYLIGHT
TZOFFSETFROM:-0500
TZOFFSETTO:-0400
TZNAME:EDT
DTSTART:20250309T070000
END:DAYLIGHT
BEGIN:STANDARD
TZOFFSETFROM:-0400
TZOFFSETTO:-0500
TZNAME:EST
DTSTART:20251102T060000
END:STANDARD
END:VTIMEZONE
BEGIN:VEVENT
DTSTART;TZID=America/Indiana/Indianapolis:20240726T173000
DTEND;TZID=America/Indiana/Indianapolis:20240726T203000
DTSTAMP:20260423T073002
CREATED:20240718T140821Z
LAST-MODIFIED:20240718T140821Z
UID:10000044-1722015000-1722025800@imsmuseum.org
SUMMARY:Trivia Night
DESCRIPTION:Back by popular demand\, the Museum is hosting Trivia Night at Guggman Haus Brewing Co. Doors open at 5:30 pm and trivia is set to begin at 6:00 pm with food and drink available for purchase. RSVP appreciated.
URL:https://imsmuseum.org/event/trivia-night-2/
LOCATION:Guggman Haus Brewing Co.\, 1701 Gent Ave\, Indianapolis\, 46202\, United States
ATTACH;FMTTYPE=image/png:https://imsmuseum.org/wp-content/uploads/2024/01/MicrosoftTeams-image-6.png
END:VEVENT
END:VCALENDAR