BEGIN:VCALENDAR
VERSION:2.0
PRODID:-//IMS Museum - ECPv6.15.20//NONSGML v1.0//EN
CALSCALE:GREGORIAN
METHOD:PUBLISH
X-ORIGINAL-URL:https://imsmuseum.org
X-WR-CALDESC:Events for IMS Museum
REFRESH-INTERVAL;VALUE=DURATION:PT1H
X-Robots-Tag:noindex
X-PUBLISHED-TTL:PT1H
BEGIN:VTIMEZONE
TZID:America/Indiana/Indianapolis
BEGIN:DAYLIGHT
TZOFFSETFROM:-0500
TZOFFSETTO:-0400
TZNAME:EDT
DTSTART:20230312T070000
END:DAYLIGHT
BEGIN:STANDARD
TZOFFSETFROM:-0400
TZOFFSETTO:-0500
TZNAME:EST
DTSTART:20231105T060000
END:STANDARD
BEGIN:DAYLIGHT
TZOFFSETFROM:-0500
TZOFFSETTO:-0400
TZNAME:EDT
DTSTART:20240310T070000
END:DAYLIGHT
BEGIN:STANDARD
TZOFFSETFROM:-0400
TZOFFSETTO:-0500
TZNAME:EST
DTSTART:20241103T060000
END:STANDARD
BEGIN:DAYLIGHT
TZOFFSETFROM:-0500
TZOFFSETTO:-0400
TZNAME:EDT
DTSTART:20250309T070000
END:DAYLIGHT
BEGIN:STANDARD
TZOFFSETFROM:-0400
TZOFFSETTO:-0500
TZNAME:EST
DTSTART:20251102T060000
END:STANDARD
END:VTIMEZONE
BEGIN:VEVENT
DTSTART;TZID=America/Indiana/Indianapolis:20240405T090000
DTEND;TZID=America/Indiana/Indianapolis:20240405T100000
DTSTAMP:20260423T074008
CREATED:20240321T133712Z
LAST-MODIFIED:20240321T144349Z
UID:10000041-1712307600-1712311200@imsmuseum.org
SUMMARY:Member Exclusive | Fuel Up with Marissa Andretti
DESCRIPTION:This is a member-exclusive event with limited capacity.  This event will be held at Wyrk_space inside the USAC building in Speedway. \nMarissa Andretti serves as Vice President of Andretti Global advising and strategizing on the team’s racing programs from a commercial perspective. In addition\, she is Managing Director for Andretti Technologies [ATECH]\, where she develops and implements new strategies and projects across the commercial and competition sides of the business. Marissa additionally leads the team’s sustainability initiatives as well as the team’s philanthropic endeavors via The Michael Andretti Foundation. She is currently spearheading the build of the new Andretti Global Headquarters in Fishers\, Indiana. \nComplimentary coffee from Founders Grounds and donuts from Jack’s Donuts will be served. \n 
URL:https://imsmuseum.org/event/member-exclusive-fuel-up-with-marissa-andretti/
LOCATION:Wyrk_space at USAC\, 4910 W. 16th Street\, Speedway\, IN\, 46224\, United States
ATTACH;FMTTYPE=image/png:https://imsmuseum.org/wp-content/uploads/2024/03/Fuel-up_Website.png
END:VEVENT
BEGIN:VEVENT
DTSTART;TZID=America/Indiana/Indianapolis:20240409T173000
DTEND;TZID=America/Indiana/Indianapolis:20240409T200000
DTSTAMP:20260423T074008
CREATED:20240229T185725Z
LAST-MODIFIED:20240327T182422Z
UID:10000040-1712683800-1712692800@imsmuseum.org
SUMMARY:An Evening with Will Power
DESCRIPTION:Indianapolis 500 winner and 2x INDYCAR champion Will Power joins us for an epic evening of career stories and personal insights. Power is entering his 20th season and set to make his 17th Indy 500 start. Don’t miss out on the conversation\, Q&A and autograph/photo-op sessions.
URL:https://imsmuseum.org/event/an-evening-with-will-power/
LOCATION:Indianapolis Art Center\, 820 E 67th St\, Indianapolis\, Indiana\, 46220\, United States
ATTACH;FMTTYPE=image/png:https://imsmuseum.org/wp-content/uploads/2024/02/Website.png
END:VEVENT
BEGIN:VEVENT
DTSTART;TZID=America/Indiana/Indianapolis:20240419T120000
DTEND;TZID=America/Indiana/Indianapolis:20240419T130000
DTSTAMP:20260423T074008
CREATED:20240410T194114Z
LAST-MODIFIED:20240410T194114Z
UID:10000042-1713528000-1713531600@imsmuseum.org
SUMMARY:Member Exclusive | Lunch & Learn
DESCRIPTION:This month’s speaker is Austin Pontius\, Senior Manager of Credentials and Logistics\, who will discuss his role at IMS. He will give you an inside look at his department’s operations and the vast work of credentialling guests\, media\, and VIPs\, and he will also explain the badge program.
URL:https://imsmuseum.org/event/member-exclusive-lunch-learn-4/
LOCATION:Guggman Haus Brewing Co.\, 1701 Gent Ave\, Indianapolis\, 46202\, United States
CATEGORIES:Members Only
ATTACH;FMTTYPE=image/jpeg:https://imsmuseum.org/wp-content/uploads/2024/02/Website-Logo-scaled.jpg
END:VEVENT
END:VCALENDAR