BEGIN:VCALENDAR
VERSION:2.0
PRODID:-//IMS Museum - ECPv6.15.20//NONSGML v1.0//EN
CALSCALE:GREGORIAN
METHOD:PUBLISH
X-ORIGINAL-URL:https://imsmuseum.org
X-WR-CALDESC:Events for IMS Museum
REFRESH-INTERVAL;VALUE=DURATION:PT1H
X-Robots-Tag:noindex
X-PUBLISHED-TTL:PT1H
BEGIN:VTIMEZONE
TZID:America/Indiana/Indianapolis
BEGIN:DAYLIGHT
TZOFFSETFROM:-0500
TZOFFSETTO:-0400
TZNAME:EDT
DTSTART:20230312T070000
END:DAYLIGHT
BEGIN:STANDARD
TZOFFSETFROM:-0400
TZOFFSETTO:-0500
TZNAME:EST
DTSTART:20231105T060000
END:STANDARD
BEGIN:DAYLIGHT
TZOFFSETFROM:-0500
TZOFFSETTO:-0400
TZNAME:EDT
DTSTART:20240310T070000
END:DAYLIGHT
BEGIN:STANDARD
TZOFFSETFROM:-0400
TZOFFSETTO:-0500
TZNAME:EST
DTSTART:20241103T060000
END:STANDARD
BEGIN:DAYLIGHT
TZOFFSETFROM:-0500
TZOFFSETTO:-0400
TZNAME:EDT
DTSTART:20250309T070000
END:DAYLIGHT
BEGIN:STANDARD
TZOFFSETFROM:-0400
TZOFFSETTO:-0500
TZNAME:EST
DTSTART:20251102T060000
END:STANDARD
END:VTIMEZONE
BEGIN:VEVENT
DTSTART;TZID=America/Indiana/Indianapolis:20240305T173000
DTEND;TZID=America/Indiana/Indianapolis:20240305T200000
DTSTAMP:20260423T091717
CREATED:20240202T165544Z
LAST-MODIFIED:20240223T175344Z
UID:10000038-1709659800-1709668800@imsmuseum.org
SUMMARY:An Evening with David Malukas
DESCRIPTION:David\, or “Lil’ Dave” as his friends call him\, is coming off an impressive sophomore season and enters his first year with the electric Arrow McLaren team. Hear an exclusive conversation on his climb to the NTT INDYCAR SERIES\, and preparation with new teammates Alexander Rossi and Pato O’Ward. There will be a Q&A and autograph session! \nThe event location is new – so be sure to go to the Indianapolis Arts Center – 820 E 67th St Indianapolis\, Indiana 46220 United States \n 
URL:https://imsmuseum.org/event/an-evening-with-david-malukas/
LOCATION:Indianapolis Art Center\, 820 E 67th St\, Indianapolis\, Indiana\, 46220\, United States
ATTACH;FMTTYPE=image/png:https://imsmuseum.org/wp-content/uploads/2024/02/Website.png
END:VEVENT
BEGIN:VEVENT
DTSTART;TZID=America/Indiana/Indianapolis:20240315T120000
DTEND;TZID=America/Indiana/Indianapolis:20240315T130000
DTSTAMP:20260423T091717
CREATED:20240229T185043Z
LAST-MODIFIED:20240229T185043Z
UID:10000039-1710504000-1710507600@imsmuseum.org
SUMMARY:Member Exclusive | Lunch & Learn
DESCRIPTION:This month’s speakers are Mike Bates – Senior Director of Safety and Security and Brian Mahone – Director of Safety and Security\, discussing the security details of IMS. Get an inside look at the operations that keep the fans\, teams\, and drivers safe during the world’s largest single-day sporting event.
URL:https://imsmuseum.org/event/member-exclusive-lunch-learn-3/
LOCATION:Guggman Haus Brewing Co.\, 1701 Gent Ave\, Indianapolis\, 46202\, United States
CATEGORIES:Members Only
ATTACH;FMTTYPE=image/jpeg:https://imsmuseum.org/wp-content/uploads/2024/02/Website-Logo-scaled.jpg
END:VEVENT
END:VCALENDAR