BEGIN:VCALENDAR
VERSION:2.0
PRODID:-//IMS Museum - ECPv6.15.20//NONSGML v1.0//EN
CALSCALE:GREGORIAN
METHOD:PUBLISH
X-WR-CALNAME:IMS Museum
X-ORIGINAL-URL:https://imsmuseum.org
X-WR-CALDESC:Events for IMS Museum
REFRESH-INTERVAL;VALUE=DURATION:PT1H
X-Robots-Tag:noindex
X-PUBLISHED-TTL:PT1H
BEGIN:VTIMEZONE
TZID:America/Indiana/Indianapolis
BEGIN:DAYLIGHT
TZOFFSETFROM:-0500
TZOFFSETTO:-0400
TZNAME:EDT
DTSTART:20220313T070000
END:DAYLIGHT
BEGIN:STANDARD
TZOFFSETFROM:-0400
TZOFFSETTO:-0500
TZNAME:EST
DTSTART:20221106T060000
END:STANDARD
BEGIN:DAYLIGHT
TZOFFSETFROM:-0500
TZOFFSETTO:-0400
TZNAME:EDT
DTSTART:20230312T070000
END:DAYLIGHT
BEGIN:STANDARD
TZOFFSETFROM:-0400
TZOFFSETTO:-0500
TZNAME:EST
DTSTART:20231105T060000
END:STANDARD
BEGIN:DAYLIGHT
TZOFFSETFROM:-0500
TZOFFSETTO:-0400
TZNAME:EDT
DTSTART:20240310T070000
END:DAYLIGHT
BEGIN:STANDARD
TZOFFSETFROM:-0400
TZOFFSETTO:-0500
TZNAME:EST
DTSTART:20241103T060000
END:STANDARD
END:VTIMEZONE
BEGIN:VEVENT
DTSTART;TZID=America/Indiana/Indianapolis:20230228T180000
DTEND;TZID=America/Indiana/Indianapolis:20230228T193000
DTSTAMP:20260423T183614
CREATED:20230208T203530Z
LAST-MODIFIED:20230223T194423Z
UID:10000003-1677607200-1677612600@imsmuseum.org
SUMMARY:Members Only – Over the Ropes\, Under the Hood
DESCRIPTION:Exclusive access to the Museum’s collection of cars and objects with expert commentary on these legendary items. Catch a glimpse beyond the bodywork. Reserve your spot today!
URL:https://imsmuseum.org/event/over-the-ropes-under-the-hood/
LOCATION:IMS Museum\, 4750 W 16th St\, Indianapolis\, IN\, 46222\, United States
CATEGORIES:Members Only
ATTACH;FMTTYPE=image/jpeg:https://imsmuseum.org/wp-content/uploads/2023/02/Over-the-ropes-newsletter-01.jpg
END:VEVENT
BEGIN:VEVENT
DTSTART;TZID=America/Indiana/Indianapolis:20230222T173000
DTEND;TZID=America/Indiana/Indianapolis:20230222T200000
DTSTAMP:20260423T183614
CREATED:20230214T023630Z
LAST-MODIFIED:20230224T014100Z
UID:10000005-1677087000-1677096000@imsmuseum.org
SUMMARY:An Evening With Takuma Sato
DESCRIPTION:Join us for An Evening with Takuma Sato. A conversation with the two-time Indianapolis 500 winner about his career and looking ahead to the 2023 season. \nAn Evening With is the Indianapolis Motor Speedway Museum’s Speaker Series event. Featuring top names from the racing community\, this is your chance to hear from them in an intimate\, fireside chat setting. \nTickets are $60/Museum Members and $75/Non-Members.\nHors d’oeuvres and beverages are included (cash bar available).\nAttendees must be 17 or older. \nPurchase Tickets Here
URL:https://imsmuseum.org/event/an-evening-with-takuma-sato/
LOCATION:IMS Museum\, 4750 W 16th St\, Indianapolis\, IN\, 46222\, United States
CATEGORIES:Open to Public
ATTACH;FMTTYPE=image/jpeg:https://imsmuseum.org/wp-content/uploads/2023/02/MicrosoftTeams-image-44-scaled.jpg
END:VEVENT
BEGIN:VEVENT
DTSTART;TZID=America/Indiana/Indianapolis:20230221T130000
DTEND;TZID=America/Indiana/Indianapolis:20230221T150000
DTSTAMP:20260423T183614
CREATED:20230208T202939Z
LAST-MODIFIED:20230214T231432Z
UID:10000002-1676984400-1676991600@imsmuseum.org
SUMMARY:Members Only – Member Preview at “Vintage Vision” at the Indiana State Museum
DESCRIPTION:The Indianapolis Motor Speedway Museum collaborated with the Indiana State Museum on this new exhibition. Check out 10 of the hottest rides of the 1920s – including a 1926 Duesenberg Model A Roadster – all on loan from our collection. 
URL:https://imsmuseum.org/event/members-only-member-preview-at-vintage-vision-at-the-indiana-state-museum/
CATEGORIES:Members Only
ATTACH;FMTTYPE=image/jpeg:https://imsmuseum.org/wp-content/uploads/2023/02/Vintage-Vision.jpg
END:VEVENT
BEGIN:VEVENT
DTSTART;TZID=America/Indiana/Indianapolis:20230220T050000
DTEND;TZID=America/Indiana/Indianapolis:20230220T100000
DTSTAMP:20260423T183614
CREATED:20230214T020535Z
LAST-MODIFIED:20230220T194630Z
UID:10000004-1676869200-1676887200@imsmuseum.org
SUMMARY:Free Tours Day!
DESCRIPTION:Indianapolis Motor Speedway Museum will offer free track tours with the purchase of a general admission ticket on President’s Day\, Monday\, February 20. Guests will enjoy a “Kiss the Bricks” tour which includes a lap around the track and a stop at the famed Yard of Bricks for a photo opportunity. The track tours normally cost $10 but will be complimentary all day. \nThe Museum will be open from 10:00 a.m.-4:00 p.m\, but the last tour begins at 3:00 p.m. Tickets are only available on-site\, at the Museum.
URL:https://imsmuseum.org/event/freetours/
LOCATION:IMS Museum\, 4750 W 16th St\, Indianapolis\, IN\, 46222\, United States
CATEGORIES:Open to Public
ATTACH;FMTTYPE=image/jpeg:https://imsmuseum.org/wp-content/uploads/2022/09/Kiss-The-Bricks.jpg
END:VEVENT
END:VCALENDAR