BEGIN:VCALENDAR
VERSION:2.0
PRODID:-//IMS Museum - ECPv6.15.20//NONSGML v1.0//EN
CALSCALE:GREGORIAN
METHOD:PUBLISH
X-WR-CALNAME:IMS Museum
X-ORIGINAL-URL:https://imsmuseum.org
X-WR-CALDESC:Events for IMS Museum
REFRESH-INTERVAL;VALUE=DURATION:PT1H
X-Robots-Tag:noindex
X-PUBLISHED-TTL:PT1H
BEGIN:VTIMEZONE
TZID:America/Indiana/Indianapolis
BEGIN:DAYLIGHT
TZOFFSETFROM:-0500
TZOFFSETTO:-0400
TZNAME:EDT
DTSTART:20220313T070000
END:DAYLIGHT
BEGIN:STANDARD
TZOFFSETFROM:-0400
TZOFFSETTO:-0500
TZNAME:EST
DTSTART:20221106T060000
END:STANDARD
BEGIN:DAYLIGHT
TZOFFSETFROM:-0500
TZOFFSETTO:-0400
TZNAME:EDT
DTSTART:20230312T070000
END:DAYLIGHT
BEGIN:STANDARD
TZOFFSETFROM:-0400
TZOFFSETTO:-0500
TZNAME:EST
DTSTART:20231105T060000
END:STANDARD
BEGIN:DAYLIGHT
TZOFFSETFROM:-0500
TZOFFSETTO:-0400
TZNAME:EDT
DTSTART:20240310T070000
END:DAYLIGHT
BEGIN:STANDARD
TZOFFSETFROM:-0400
TZOFFSETTO:-0500
TZNAME:EST
DTSTART:20241103T060000
END:STANDARD
END:VTIMEZONE
BEGIN:VEVENT
DTSTART;TZID=America/Indiana/Indianapolis:20230708T080000
DTEND;TZID=America/Indiana/Indianapolis:20230708T110000
DTSTAMP:20260423T164621
CREATED:20230610T190114Z
LAST-MODIFIED:20230610T190114Z
UID:10000019-1688803200-1688814000@imsmuseum.org
SUMMARY:Cars & Coffee | July
DESCRIPTION:The July edition of Cars & Coffee the weekend after Independence Day! Along with our partners at Graham Rahal Performance\, we’re hosting Cars & Coffee the 2nd Saturday of every month at the Museum. So get your motor running and all you have to do is bring your car\, truck or motorcycle and friends! We’ll bring the free coffee and donuts from Founders Grounds and Jack’s Donuts. \nGates open at 8am and the event runs until 11am.
URL:https://imsmuseum.org/event/cars-coffee-july/
LOCATION:IMS Museum\, 4750 W 16th St\, Indianapolis\, IN\, 46222\, United States
ATTACH;FMTTYPE=image/png:https://imsmuseum.org/wp-content/uploads/2023/03/Website-Event.png
END:VEVENT
BEGIN:VEVENT
DTSTART;TZID=America/Indiana/Indianapolis:20230629T173000
DTEND;TZID=America/Indiana/Indianapolis:20230629T193000
DTSTAMP:20260423T164621
CREATED:20230608T210609Z
LAST-MODIFIED:20230620T173433Z
UID:10000018-1688059800-1688067000@imsmuseum.org
SUMMARY:Member Preview | "1956" and "Our Collection\, Your Favorites"
DESCRIPTION:Members will get an exclusive sneak preview of not one\, but two new exhibits! “1956” will honor the original Museum\, featuring the first 13 vehicles on display\, early collection items\, and the history of the Museum. “Our Collection\, Your Favorites” is a unique exhibit in which every vehicle has been chosen by you\, the fans! There are some famous and surprising picks\, so come in to see if your favorite car was voted in. Complimentary appetizers and a cash bar will be available.
URL:https://imsmuseum.org/event/member-preview-1956-and-our-collection-your-favorites/
LOCATION:IMS Museum\, 4750 W 16th St\, Indianapolis\, IN\, 46222\, United States
ATTACH;FMTTYPE=image/png:https://imsmuseum.org/wp-content/uploads/2023/06/Exhibit-Preview_Website-Event.png
END:VEVENT
BEGIN:VEVENT
DTSTART;TZID=America/Indiana/Indianapolis:20230614T080000
DTEND;TZID=America/Indiana/Indianapolis:20230614T090000
DTSTAMP:20260423T164621
CREATED:20230531T180500Z
LAST-MODIFIED:20230614T010320Z
UID:10000016-1686729600-1686733200@imsmuseum.org
SUMMARY:Members Only | Fuel Up Wednesday
DESCRIPTION:UPDATE: Unfortunately our Fuel Up event with Felix Rosenqvist scheduled for June 14 is postponed due to Felix being under the weather. We wish him a quick recovery ahead of the race this weekend. \nWhat’s a better way to kick off the weekend than with free coffee\, donuts\, and a race driver? In this member exclusive free event\, Arrow McLaren driver Felix Rosenqvist will join us and share career and personal stories along with a Q&A session. Rosenqvist is an NTT INDYCAR SERIES race winner and 2019 rookie of the year. Hailing from Sweden\, Felix forged his path to Indy by winning an F3 Championship and three Formula Renault titles among other accolades. After a front row start at the Indy 500\, he was in contention for the win until a crash with 16 laps to-go. Hosted by Curt Cavin\, hear his first hand experiences just days before the Road America Grand Prix where he won his first INDYCAR race. Reserve your spot now! \n  \n 
URL:https://imsmuseum.org/event/members-only-fuel-up-wednesday/
LOCATION:IMS Museum\, 4750 W 16th St\, Indianapolis\, IN\, 46222\, United States
ATTACH;FMTTYPE=image/png:https://imsmuseum.org/wp-content/uploads/2023/05/Feliex-Website-Event.png
END:VEVENT
BEGIN:VEVENT
DTSTART;TZID=America/Indiana/Indianapolis:20230610T080000
DTEND;TZID=America/Indiana/Indianapolis:20230610T110000
DTSTAMP:20260423T164621
CREATED:20230531T181906Z
LAST-MODIFIED:20230531T181906Z
UID:10000017-1686384000-1686394800@imsmuseum.org
SUMMARY:Cars & Coffee | June
DESCRIPTION:The excitement is just heating up for a summer of automotive fun!  Along with our partners at Graham Rahal Performance\, we’re hosting Cars & Coffee the 2nd Saturday of every month at the Museum. So get your motor running and all you have to do is bring your car\, truck or motorcycle and friends! We’ll bring the free coffee and donuts from Founders Grounds and Jack’s Donuts. \nGates open at 8am and the event runs until 11am.
URL:https://imsmuseum.org/event/cars-coffee-june/
LOCATION:IMS Museum\, 4750 W 16th St\, Indianapolis\, IN\, 46222\, United States
ATTACH;FMTTYPE=image/png:https://imsmuseum.org/wp-content/uploads/2023/03/Website-Event.png
END:VEVENT
BEGIN:VEVENT
DTSTART;TZID=America/Indiana/Indianapolis:20230526T180000
DTEND;TZID=America/Indiana/Indianapolis:20230526T213000
DTSTAMP:20260423T164621
CREATED:20230314T173151Z
LAST-MODIFIED:20230526T153513Z
UID:10000006-1685124000-1685136600@imsmuseum.org
SUMMARY:2023 IMS Hall of Fame Ceremony
DESCRIPTION:The Indianapolis Motor Speedway Museum will host the Indianapolis Motor Speedway Hall of Fame Induction Ceremony and Dinner\, presented by Shell and supported by The National Bank of Indianapolis on Friday\, May 26\, at the Indiana Roof Ballroom. \nThe Class of 2023 Inductees\, Tim Cindric and Tony George\, will be formally celebrated that evening. Presenters include A.J. Foyt and Al Unser\, Jr. James Hinchcliffe will serve as the host for the event. \nIn addition to the inductees\, Marlyne Sexton will be recognized for her contributions to the success of the Museum\, supporting the racing community\, and the 500 Festival organization. \nVenue Information\nIndiana Roof Ballroom\n140 West Washington Street\nIndianapolis\, IN 46204\nComplimentary valet parking is available in front of the venue. \nSchedule\n5:30 p.m. VIP Reception (invitation only)\n5:45 p.m. – Check-In Opens\n6:00 – 6: 45 p.m. – Cocktail Reception\n7:00 p.m. – Dinner\nThe program will begin immediately following dinner. \nAttire\nCocktail attire is recommended. \nAll proceeds benefit the Indianapolis Motor Speedway Museum\, a 501c3 non-profit organization that aims to celebrate the cultural and historical significance of the Indianapolis Motor Speedway through storytelling and educational programs. \n  \n \nIndianapolis Motor Speedway Hall of Fame Inductees \n  \nPresented by Shell\nSupported by The National Bank of Indianapolis
URL:https://imsmuseum.org/event/2023-ims-hall-of-fame-ceremony/
LOCATION:Indiana Roof Ballroom\, 140 W Washington Street\, Indianapolis\, IN\, 46204\, United States
CATEGORIES:Open to Public
ATTACH;FMTTYPE=image/png:https://imsmuseum.org/wp-content/uploads/2023/03/HOF-Event-Website.png
END:VEVENT
BEGIN:VEVENT
DTSTART;TZID=America/Indiana/Indianapolis:20230524T173000
DTEND;TZID=America/Indiana/Indianapolis:20230524T200000
DTSTAMP:20260423T164621
CREATED:20230406T165611Z
LAST-MODIFIED:20230522T183704Z
UID:10000011-1684949400-1684958400@imsmuseum.org
SUMMARY:SOLD OUT | An Evening with Dario Franchitti
DESCRIPTION:3-time Indianapolis 500 winner and 4-time NTT INDYCAR SERIES Champion and IMS Hall of Fame member Dario Franchitti joins us. Dario has no shortage of tales from his career in CART\, INDYCAR\, NASCAR and more! There will be a Q&A portion and photo/autograph session at the end.  Get your tickets for a night with a legend amongst the iconic Museum collection.
URL:https://imsmuseum.org/event/an-evening-with-dario-franchitti/
LOCATION:IMS Museum\, 4750 W 16th St\, Indianapolis\, IN\, 46222\, United States
ATTACH;FMTTYPE=image/png:https://imsmuseum.org/wp-content/uploads/2023/04/Website-Event_Franchitti.png
END:VEVENT
BEGIN:VEVENT
DTSTART;TZID=America/Indiana/Indianapolis:20230515T173000
DTEND;TZID=America/Indiana/Indianapolis:20230515T200000
DTSTAMP:20260423T164621
CREATED:20230425T152020Z
LAST-MODIFIED:20230425T152020Z
UID:10000013-1684171800-1684180800@imsmuseum.org
SUMMARY:An Evening with Helio Castroneves
DESCRIPTION:A member of the 4-time Indianapolis 500 winners club\, Helio Castroneves joins us for this speaker series event.  Currently driving for Meyer Shank Racing\, Helio will be here to share stories from the track just weeks before he attempts to claim win number five. There will be a Q&A portion and photo/autograph session at the end.  Get your tickets for a night with a legend amongst the iconic Museum collection.
URL:https://imsmuseum.org/event/an-evening-with-helio-castroneves/
LOCATION:IMS Museum\, 4750 W 16th St\, Indianapolis\, IN\, 46222\, United States
ATTACH;FMTTYPE=image/png:https://imsmuseum.org/wp-content/uploads/2023/04/Castroneves-Website-Event.png
END:VEVENT
BEGIN:VEVENT
DTSTART;TZID=America/Indiana/Indianapolis:20230513T080000
DTEND;TZID=America/Indiana/Indianapolis:20230513T110000
DTSTAMP:20260423T164621
CREATED:20230427T175507Z
LAST-MODIFIED:20230509T143050Z
UID:10000014-1683964800-1683975600@imsmuseum.org
SUMMARY:Cars & Coffee | May
DESCRIPTION:This Cars & Coffee is a race day experience\, and spots are limited! The event will be held during pre-race for the INDYCAR GMR Grand Prix\, however your VIP parking space in front of the Museum will be reserved for the duration of the race.
URL:https://imsmuseum.org/event/cars-coffee-may/
LOCATION:IMS Museum\, 4750 W 16th St\, Indianapolis\, IN\, 46222\, United States
ATTACH;FMTTYPE=image/png:https://imsmuseum.org/wp-content/uploads/2023/04/IMG_5259.png
END:VEVENT
BEGIN:VEVENT
DTSTART;TZID=America/Indiana/Indianapolis:20230421T080000
DTEND;TZID=America/Indiana/Indianapolis:20230421T090000
DTSTAMP:20260423T164621
CREATED:20230401T223041Z
LAST-MODIFIED:20230401T223243Z
UID:10000010-1682064000-1682067600@imsmuseum.org
SUMMARY:MEMBERS ONLY | FUEL UP FRIDAY
DESCRIPTION:A free Members only exclusive event. Start your weekend off with another racing icon\, Beth Paretta!  Beth has made waves in the motorsports community\, from her role as Director of SRT Motorsports\, founder of Grace Autosport which promoted STEM education for young women\, and qualifying for the Indy 500 with a predominantly female Paretta Autosport team and driver Simona de Silvestro.  Hear her story\, participate in a Q&A session while fueling up with complimentary coffee and donuts!
URL:https://imsmuseum.org/event/members-only-fuel-up-friday-2/
LOCATION:IMS Museum\, 4750 W 16th St\, Indianapolis\, IN\, 46222\, United States
ATTACH;FMTTYPE=image/png:https://imsmuseum.org/wp-content/uploads/2023/04/4_21-Website-Event.png
END:VEVENT
BEGIN:VEVENT
DTSTART;TZID=America/Indiana/Indianapolis:20230419T173000
DTEND;TZID=America/Indiana/Indianapolis:20230419T200000
DTSTAMP:20260423T164621
CREATED:20230310T200707Z
LAST-MODIFIED:20230310T213742Z
UID:10000008-1681925400-1681934400@imsmuseum.org
SUMMARY:An Evening with Pato O'Ward
DESCRIPTION:A rising star in INDYCAR\, Pato has 4 race wins\, 14 podiums\, 5 poles\, and has led 510 laps! He’ll be sharing stories from Team Arrow McLaren and the intense beginning of the 2023 season\, just after round 3 at the Long Beach Grand Prix. Hosted by Indianapolis Motor Speedway President Doug Boles.
URL:https://imsmuseum.org/event/an-evening-with-pato-oward/
LOCATION:IMS Museum\, 4750 W 16th St\, Indianapolis\, IN\, 46222\, United States
CATEGORIES:Open to Public
ATTACH;FMTTYPE=image/png:https://imsmuseum.org/wp-content/uploads/2023/03/Pato-Email-Headers-copy.png
END:VEVENT
BEGIN:VEVENT
DTSTART;TZID=America/Indiana/Indianapolis:20230408T080000
DTEND;TZID=America/Indiana/Indianapolis:20230408T110000
DTSTAMP:20260423T164621
CREATED:20230316T173034Z
LAST-MODIFIED:20230316T182819Z
UID:10000009-1680940800-1680951600@imsmuseum.org
SUMMARY:Cars & Coffee | April
DESCRIPTION:Cars & Coffee is back! \nThis year we’re teaming up with Graham Rahal Performance to host Cars & Coffee the 2nd Saturday of every month at the Museum. Join us for the April kickoff event\, the event is free and all rides are welcome! So bring your car\, truck or motorcycle and friends\, and we’ll bring the free coffee from Founders Grounds and Jack’s Donuts. \nGates open at 8am and the event runs until 11am.
URL:https://imsmuseum.org/event/cars-coffee-april/
LOCATION:IMS Museum\, 4750 W 16th St\, Indianapolis\, IN\, 46222\, United States
ATTACH;FMTTYPE=image/png:https://imsmuseum.org/wp-content/uploads/2023/03/Website-Event.png
END:VEVENT
BEGIN:VEVENT
DTSTART;TZID=America/Indiana/Indianapolis:20230317T080000
DTEND;TZID=America/Indiana/Indianapolis:20230317T090000
DTSTAMP:20260423T164621
CREATED:20230310T193127Z
LAST-MODIFIED:20230316T174101Z
UID:10000007-1679040000-1679043600@imsmuseum.org
SUMMARY:Members Only | Fuel Up Friday
DESCRIPTION:A free Members only exclusive event. Start your weekend off with host Curt Cavin and racing legend Derek Daly! The Formula 1 and INDYCAR veteran and father of current racer Conor Daly will be sharing stories from his racing career and exploits after driving. Fuel up on complimentary donuts and coffee! \nBecome a Member!
URL:https://imsmuseum.org/event/members-only-fuel-up-friday/
LOCATION:IMS Museum\, 4750 W 16th St\, Indianapolis\, IN\, 46222\, United States
CATEGORIES:Members Only
ATTACH;FMTTYPE=image/png:https://imsmuseum.org/wp-content/uploads/2023/03/Email-Headers-02.png
END:VEVENT
BEGIN:VEVENT
DTSTART;TZID=America/Indiana/Indianapolis:20230228T180000
DTEND;TZID=America/Indiana/Indianapolis:20230228T193000
DTSTAMP:20260423T164621
CREATED:20230208T203530Z
LAST-MODIFIED:20230223T194423Z
UID:10000003-1677607200-1677612600@imsmuseum.org
SUMMARY:Members Only – Over the Ropes\, Under the Hood
DESCRIPTION:Exclusive access to the Museum’s collection of cars and objects with expert commentary on these legendary items. Catch a glimpse beyond the bodywork. Reserve your spot today!
URL:https://imsmuseum.org/event/over-the-ropes-under-the-hood/
LOCATION:IMS Museum\, 4750 W 16th St\, Indianapolis\, IN\, 46222\, United States
CATEGORIES:Members Only
ATTACH;FMTTYPE=image/jpeg:https://imsmuseum.org/wp-content/uploads/2023/02/Over-the-ropes-newsletter-01.jpg
END:VEVENT
BEGIN:VEVENT
DTSTART;TZID=America/Indiana/Indianapolis:20230222T173000
DTEND;TZID=America/Indiana/Indianapolis:20230222T200000
DTSTAMP:20260423T164621
CREATED:20230214T023630Z
LAST-MODIFIED:20230224T014100Z
UID:10000005-1677087000-1677096000@imsmuseum.org
SUMMARY:An Evening With Takuma Sato
DESCRIPTION:Join us for An Evening with Takuma Sato. A conversation with the two-time Indianapolis 500 winner about his career and looking ahead to the 2023 season. \nAn Evening With is the Indianapolis Motor Speedway Museum’s Speaker Series event. Featuring top names from the racing community\, this is your chance to hear from them in an intimate\, fireside chat setting. \nTickets are $60/Museum Members and $75/Non-Members.\nHors d’oeuvres and beverages are included (cash bar available).\nAttendees must be 17 or older. \nPurchase Tickets Here
URL:https://imsmuseum.org/event/an-evening-with-takuma-sato/
LOCATION:IMS Museum\, 4750 W 16th St\, Indianapolis\, IN\, 46222\, United States
CATEGORIES:Open to Public
ATTACH;FMTTYPE=image/jpeg:https://imsmuseum.org/wp-content/uploads/2023/02/MicrosoftTeams-image-44-scaled.jpg
END:VEVENT
BEGIN:VEVENT
DTSTART;TZID=America/Indiana/Indianapolis:20230221T130000
DTEND;TZID=America/Indiana/Indianapolis:20230221T150000
DTSTAMP:20260423T164621
CREATED:20230208T202939Z
LAST-MODIFIED:20230214T231432Z
UID:10000002-1676984400-1676991600@imsmuseum.org
SUMMARY:Members Only – Member Preview at “Vintage Vision” at the Indiana State Museum
DESCRIPTION:The Indianapolis Motor Speedway Museum collaborated with the Indiana State Museum on this new exhibition. Check out 10 of the hottest rides of the 1920s – including a 1926 Duesenberg Model A Roadster – all on loan from our collection. 
URL:https://imsmuseum.org/event/members-only-member-preview-at-vintage-vision-at-the-indiana-state-museum/
CATEGORIES:Members Only
ATTACH;FMTTYPE=image/jpeg:https://imsmuseum.org/wp-content/uploads/2023/02/Vintage-Vision.jpg
END:VEVENT
BEGIN:VEVENT
DTSTART;TZID=America/Indiana/Indianapolis:20230220T050000
DTEND;TZID=America/Indiana/Indianapolis:20230220T100000
DTSTAMP:20260423T164621
CREATED:20230214T020535Z
LAST-MODIFIED:20230220T194630Z
UID:10000004-1676869200-1676887200@imsmuseum.org
SUMMARY:Free Tours Day!
DESCRIPTION:Indianapolis Motor Speedway Museum will offer free track tours with the purchase of a general admission ticket on President’s Day\, Monday\, February 20. Guests will enjoy a “Kiss the Bricks” tour which includes a lap around the track and a stop at the famed Yard of Bricks for a photo opportunity. The track tours normally cost $10 but will be complimentary all day. \nThe Museum will be open from 10:00 a.m.-4:00 p.m\, but the last tour begins at 3:00 p.m. Tickets are only available on-site\, at the Museum.
URL:https://imsmuseum.org/event/freetours/
LOCATION:IMS Museum\, 4750 W 16th St\, Indianapolis\, IN\, 46222\, United States
CATEGORIES:Open to Public
ATTACH;FMTTYPE=image/jpeg:https://imsmuseum.org/wp-content/uploads/2022/09/Kiss-The-Bricks.jpg
END:VEVENT
END:VCALENDAR