BEGIN:VCALENDAR
VERSION:2.0
PRODID:-//IMS Museum - ECPv6.15.20//NONSGML v1.0//EN
CALSCALE:GREGORIAN
METHOD:PUBLISH
X-ORIGINAL-URL:https://imsmuseum.org
X-WR-CALDESC:Events for IMS Museum
REFRESH-INTERVAL;VALUE=DURATION:PT1H
X-Robots-Tag:noindex
X-PUBLISHED-TTL:PT1H
BEGIN:VTIMEZONE
TZID:America/Indiana/Indianapolis
BEGIN:DAYLIGHT
TZOFFSETFROM:-0500
TZOFFSETTO:-0400
TZNAME:EDT
DTSTART:20230312T070000
END:DAYLIGHT
BEGIN:STANDARD
TZOFFSETFROM:-0400
TZOFFSETTO:-0500
TZNAME:EST
DTSTART:20231105T060000
END:STANDARD
BEGIN:DAYLIGHT
TZOFFSETFROM:-0500
TZOFFSETTO:-0400
TZNAME:EDT
DTSTART:20240310T070000
END:DAYLIGHT
BEGIN:STANDARD
TZOFFSETFROM:-0400
TZOFFSETTO:-0500
TZNAME:EST
DTSTART:20241103T060000
END:STANDARD
BEGIN:DAYLIGHT
TZOFFSETFROM:-0500
TZOFFSETTO:-0400
TZNAME:EDT
DTSTART:20250309T070000
END:DAYLIGHT
BEGIN:STANDARD
TZOFFSETFROM:-0400
TZOFFSETTO:-0500
TZNAME:EST
DTSTART:20251102T060000
END:STANDARD
END:VTIMEZONE
BEGIN:VEVENT
DTSTART;TZID=America/Indiana/Indianapolis:20241202T173000
DTEND;TZID=America/Indiana/Indianapolis:20241202T200000
DTSTAMP:20260423T091148
CREATED:20241115T150041Z
LAST-MODIFIED:20241114T160027Z
UID:10000047-1733160600-1733169600@imsmuseum.org
SUMMARY:An Evening with Colton Herta
DESCRIPTION:Nine-time NTT INDYCAR Series race winner Colton Herta joins us for an evening of conversation in this last “An Evening With” of 2024. Herta became the youngest driver to win an INDYCAR race with his first victory in his rookie season in 2019. He finished the 2024 INDYCAR season with two wins and 10 top-five finishes. Don’t miss out on the discussion\, Q&A and autograph/photo-op sessions.
URL:https://imsmuseum.org/event/an-evening-with-colton-herta/
LOCATION:Indianapolis Art Center\, 820 E 67th St\, Indianapolis\, Indiana\, 46220\, United States
ATTACH;FMTTYPE=image/png:https://imsmuseum.org/wp-content/uploads/2024/02/Website.png
END:VEVENT
END:VCALENDAR